BEGIN:VCALENDAR
VERSION:2.0
PRODID:-//Ipswich Waterfront Churches - ECPv6.15.15//NONSGML v1.0//EN
CALSCALE:GREGORIAN
METHOD:PUBLISH
X-WR-CALNAME:Ipswich Waterfront Churches
X-ORIGINAL-URL:https://www.ipswichwaterfrontchurches.co.uk
X-WR-CALDESC:Events for Ipswich Waterfront Churches
REFRESH-INTERVAL;VALUE=DURATION:PT1H
X-Robots-Tag:noindex
X-PUBLISHED-TTL:PT1H
BEGIN:VTIMEZONE
TZID:Europe/London
BEGIN:DAYLIGHT
TZOFFSETFROM:+0000
TZOFFSETTO:+0100
TZNAME:BST
DTSTART:20250330T010000
END:DAYLIGHT
BEGIN:STANDARD
TZOFFSETFROM:+0100
TZOFFSETTO:+0000
TZNAME:GMT
DTSTART:20251026T010000
END:STANDARD
BEGIN:DAYLIGHT
TZOFFSETFROM:+0000
TZOFFSETTO:+0100
TZNAME:BST
DTSTART:20260329T010000
END:DAYLIGHT
BEGIN:STANDARD
TZOFFSETFROM:+0100
TZOFFSETTO:+0000
TZNAME:GMT
DTSTART:20261025T010000
END:STANDARD
BEGIN:DAYLIGHT
TZOFFSETFROM:+0000
TZOFFSETTO:+0100
TZNAME:BST
DTSTART:20270328T010000
END:DAYLIGHT
BEGIN:STANDARD
TZOFFSETFROM:+0100
TZOFFSETTO:+0000
TZNAME:GMT
DTSTART:20271031T010000
END:STANDARD
END:VTIMEZONE
BEGIN:VEVENT
DTSTART;TZID=Europe/London:20260408T103000
DTEND;TZID=Europe/London:20260408T103000
DTSTAMP:20260423T162122
CREATED:20260328T100215Z
LAST-MODIFIED:20260328T100351Z
UID:27548-1775644200-1775644200@www.ipswichwaterfrontchurches.co.uk
SUMMARY:NO LITTLE SHOOTS THIS WEEK (Easter Holiday)
DESCRIPTION:
URL:https://www.ipswichwaterfrontchurches.co.uk/event/no-little-shoots-this-week-easter-holiday/
LOCATION:St Luke’s Church & Hall\, 78 Cliff Lane\, Ipswich\, IP3 0BJ\, United Kingdom
END:VEVENT
END:VCALENDAR