BEGIN:VCALENDAR
VERSION:2.0
PRODID:-//Ipswich Waterfront Churches - ECPv6.15.15//NONSGML v1.0//EN
CALSCALE:GREGORIAN
METHOD:PUBLISH
X-ORIGINAL-URL:https://www.ipswichwaterfrontchurches.co.uk
X-WR-CALDESC:Events for Ipswich Waterfront Churches
REFRESH-INTERVAL;VALUE=DURATION:PT1H
X-Robots-Tag:noindex
X-PUBLISHED-TTL:PT1H
BEGIN:VTIMEZONE
TZID:Europe/London
BEGIN:DAYLIGHT
TZOFFSETFROM:+0000
TZOFFSETTO:+0100
TZNAME:BST
DTSTART:20250330T010000
END:DAYLIGHT
BEGIN:STANDARD
TZOFFSETFROM:+0100
TZOFFSETTO:+0000
TZNAME:GMT
DTSTART:20251026T010000
END:STANDARD
BEGIN:DAYLIGHT
TZOFFSETFROM:+0000
TZOFFSETTO:+0100
TZNAME:BST
DTSTART:20260329T010000
END:DAYLIGHT
BEGIN:STANDARD
TZOFFSETFROM:+0100
TZOFFSETTO:+0000
TZNAME:GMT
DTSTART:20261025T010000
END:STANDARD
BEGIN:DAYLIGHT
TZOFFSETFROM:+0000
TZOFFSETTO:+0100
TZNAME:BST
DTSTART:20270328T010000
END:DAYLIGHT
BEGIN:STANDARD
TZOFFSETFROM:+0100
TZOFFSETTO:+0000
TZNAME:GMT
DTSTART:20271031T010000
END:STANDARD
END:VTIMEZONE
BEGIN:VEVENT
DTSTART;TZID=Europe/London:20260423T093000
DTEND;TZID=Europe/London:20260423T120000
DTSTAMP:20260423T175855
CREATED:20250425T185502Z
LAST-MODIFIED:20260328T101133Z
UID:27454-1776936600-1776945600@www.ipswichwaterfrontchurches.co.uk
SUMMARY:Coffee Pot Cafe @ St Luke’s
DESCRIPTION:
URL:https://www.ipswichwaterfrontchurches.co.uk/event/coffee-pot-cafe-st-lukes/
LOCATION:St Luke’s Church & Hall\, 78 Cliff Lane\, Ipswich\, IP3 0BJ\, United Kingdom
CATEGORIES:Midweek
END:VEVENT
BEGIN:VEVENT
DTSTART;TZID=Europe/London:20260429T091500
DTEND;TZID=Europe/London:20260429T111500
DTSTAMP:20260423T175855
CREATED:20231026T200536Z
LAST-MODIFIED:20260328T101515Z
UID:27239-1777454100-1777461300@www.ipswichwaterfrontchurches.co.uk
SUMMARY:"Little Shoots” Baby & Toddler Group @ St Luke's 9:15am
DESCRIPTION:
URL:https://www.ipswichwaterfrontchurches.co.uk/event/little-shoots-baby-toddler-group-st-lukes-915am-7/
LOCATION:St Luke’s Church & Hall\, 78 Cliff Lane\, Ipswich\, IP3 0BJ\, United Kingdom
CATEGORIES:Kids,Midweek
END:VEVENT
BEGIN:VEVENT
DTSTART;TZID=Europe/London:20260430T093000
DTEND;TZID=Europe/London:20260430T120000
DTSTAMP:20260423T175855
CREATED:20230130T150524Z
LAST-MODIFIED:20260328T101347Z
UID:27035-1777541400-1777550400@www.ipswichwaterfrontchurches.co.uk
SUMMARY:Coffee Pot Cafe @ St Luke's
DESCRIPTION:
URL:https://www.ipswichwaterfrontchurches.co.uk/event/coffee-pot-cafe-st-lukes-5/
LOCATION:St Luke’s Church & Hall\, 78 Cliff Lane\, Ipswich\, IP3 0BJ\, United Kingdom
CATEGORIES:Midweek
END:VEVENT
END:VCALENDAR