BEGIN:VCALENDAR
VERSION:2.0
PRODID:-//Ipswich Waterfront Churches - ECPv6.15.15//NONSGML v1.0//EN
CALSCALE:GREGORIAN
METHOD:PUBLISH
X-WR-CALNAME:Ipswich Waterfront Churches
X-ORIGINAL-URL:https://www.ipswichwaterfrontchurches.co.uk
X-WR-CALDESC:Events for Ipswich Waterfront Churches
REFRESH-INTERVAL;VALUE=DURATION:PT1H
X-Robots-Tag:noindex
X-PUBLISHED-TTL:PT1H
BEGIN:VTIMEZONE
TZID:Europe/London
BEGIN:DAYLIGHT
TZOFFSETFROM:+0000
TZOFFSETTO:+0100
TZNAME:BST
DTSTART:20250330T010000
END:DAYLIGHT
BEGIN:STANDARD
TZOFFSETFROM:+0100
TZOFFSETTO:+0000
TZNAME:GMT
DTSTART:20251026T010000
END:STANDARD
BEGIN:DAYLIGHT
TZOFFSETFROM:+0000
TZOFFSETTO:+0100
TZNAME:BST
DTSTART:20260329T010000
END:DAYLIGHT
BEGIN:STANDARD
TZOFFSETFROM:+0100
TZOFFSETTO:+0000
TZNAME:GMT
DTSTART:20261025T010000
END:STANDARD
BEGIN:DAYLIGHT
TZOFFSETFROM:+0000
TZOFFSETTO:+0100
TZNAME:BST
DTSTART:20270328T010000
END:DAYLIGHT
BEGIN:STANDARD
TZOFFSETFROM:+0100
TZOFFSETTO:+0000
TZNAME:GMT
DTSTART:20271031T010000
END:STANDARD
END:VTIMEZONE
BEGIN:VEVENT
DTSTART;TZID=Europe/London:20260503T083000
DTEND;TZID=Europe/London:20260503T093000
DTSTAMP:20260423T162204
CREATED:20231026T195333Z
LAST-MODIFIED:20260328T101907Z
UID:27228-1777797000-1777800600@www.ipswichwaterfrontchurches.co.uk
SUMMARY:8:30am Holy Communion at St Luke's
DESCRIPTION:
URL:https://www.ipswichwaterfrontchurches.co.uk/event/830am-holy-communion-at-st-lukes-3/
LOCATION:St Luke’s Church & Hall\, 78 Cliff Lane\, Ipswich\, IP3 0BJ\, United Kingdom
CATEGORIES:Services
END:VEVENT
BEGIN:VEVENT
DTSTART;TZID=Europe/London:20260503T103000
DTEND;TZID=Europe/London:20260503T113000
DTSTAMP:20260423T162204
CREATED:20230119T171635Z
LAST-MODIFIED:20260328T101617Z
UID:27005-1777804200-1777807800@www.ipswichwaterfrontchurches.co.uk
SUMMARY:All Age Service @ St Luke's 10:30am
DESCRIPTION:
URL:https://www.ipswichwaterfrontchurches.co.uk/event/morning-service-with-holy-communion-st-lukes-1030am-2/
LOCATION:St Luke’s Church & Hall\, 78 Cliff Lane\, Ipswich\, IP3 0BJ\, United Kingdom
CATEGORIES:Services
END:VEVENT
BEGIN:VEVENT
DTSTART;TZID=Europe/London:20260507T090000
DTEND;TZID=Europe/London:20260507T093000
DTSTAMP:20260423T162204
CREATED:20260328T100542Z
LAST-MODIFIED:20260328T100542Z
UID:27552-1778144400-1778146200@www.ipswichwaterfrontchurches.co.uk
SUMMARY:NO COFFEE POT THIS WEEK (Local Elections)
DESCRIPTION:
URL:https://www.ipswichwaterfrontchurches.co.uk/event/no-coffee-pot-this-week-local-elections/
LOCATION:St Luke’s Church & Hall\, 78 Cliff Lane\, Ipswich\, IP3 0BJ\, United Kingdom
END:VEVENT
BEGIN:VEVENT
DTSTART;TZID=Europe/London:20260507T093000
DTEND;TZID=Europe/London:20260507T120000
DTSTAMP:20260423T162204
CREATED:20230103T104919Z
LAST-MODIFIED:20260328T101744Z
UID:26879-1778146200-1778155200@www.ipswichwaterfrontchurches.co.uk
SUMMARY:Coffee Pot Cafe @ St Luke's
DESCRIPTION:
URL:https://www.ipswichwaterfrontchurches.co.uk/event/coffee-pot-cafe-st-lukes-2/
LOCATION:St Luke’s Church & Hall\, 78 Cliff Lane\, Ipswich\, IP3 0BJ\, United Kingdom
CATEGORIES:Midweek
END:VEVENT
BEGIN:VEVENT
DTSTART;TZID=Europe/London:20260511T152000
DTEND;TZID=Europe/London:20260511T170000
DTSTAMP:20260423T162204
CREATED:20230117T115435Z
LAST-MODIFIED:20260328T101024Z
UID:26898-1778512800-1778518800@www.ipswichwaterfrontchurches.co.uk
SUMMARY:Messy Church @ St Luke's 3:20pm
DESCRIPTION:
URL:https://www.ipswichwaterfrontchurches.co.uk/event/messy-church-st-lukes-320pm/
LOCATION:St Luke’s Church & Hall\, 78 Cliff Lane\, Ipswich\, IP3 0BJ\, United Kingdom
CATEGORIES:Kids,Midweek
END:VEVENT
BEGIN:VEVENT
DTSTART;TZID=Europe/London:20260511T152000
DTEND;TZID=Europe/London:20260511T170000
DTSTAMP:20260423T162204
CREATED:20230412T202907Z
LAST-MODIFIED:20260422T202650Z
UID:27131-1778512800-1778518800@www.ipswichwaterfrontchurches.co.uk
SUMMARY:Messy Church @ St Helen's 3:20pm
DESCRIPTION:
URL:https://www.ipswichwaterfrontchurches.co.uk/event/messy-church-st-helens-320pm-2/
LOCATION:St Helen’s Church\, St. Helen's Street\, Ipswich\, IP4 2LS\, United Kingdom
CATEGORIES:Kids,Midweek
END:VEVENT
END:VCALENDAR